BEGIN:VCALENDAR
VERSION:2.0
PRODID:-//Melodiva Lesbenchor - ECPv6.15.20//NONSGML v1.0//EN
CALSCALE:GREGORIAN
METHOD:PUBLISH
X-ORIGINAL-URL:https://melodiva.com
X-WR-CALDESC:Veranstaltungen für Melodiva Lesbenchor
REFRESH-INTERVAL;VALUE=DURATION:PT1H
X-Robots-Tag:noindex
X-PUBLISHED-TTL:PT1H
BEGIN:VTIMEZONE
TZID:Europe/Berlin
BEGIN:DAYLIGHT
TZOFFSETFROM:+0100
TZOFFSETTO:+0200
TZNAME:CEST
DTSTART:20240331T010000
END:DAYLIGHT
BEGIN:STANDARD
TZOFFSETFROM:+0200
TZOFFSETTO:+0100
TZNAME:CET
DTSTART:20241027T010000
END:STANDARD
BEGIN:DAYLIGHT
TZOFFSETFROM:+0100
TZOFFSETTO:+0200
TZNAME:CEST
DTSTART:20250330T010000
END:DAYLIGHT
BEGIN:STANDARD
TZOFFSETFROM:+0200
TZOFFSETTO:+0100
TZNAME:CET
DTSTART:20251026T010000
END:STANDARD
BEGIN:DAYLIGHT
TZOFFSETFROM:+0100
TZOFFSETTO:+0200
TZNAME:CEST
DTSTART:20260329T010000
END:DAYLIGHT
BEGIN:STANDARD
TZOFFSETFROM:+0200
TZOFFSETTO:+0100
TZNAME:CET
DTSTART:20261025T010000
END:STANDARD
END:VTIMEZONE
BEGIN:VEVENT
DTSTART;TZID=Europe/Berlin:20251114T190000
DTEND;TZID=Europe/Berlin:20251114T220000
DTSTAMP:20260419T214609
CREATED:20241118T192546Z
LAST-MODIFIED:20250503T183304Z
UID:4047-1763146800-1763157600@melodiva.com
SUMMARY:Melodiva dreht am Rad! Die 30-Jahre-Jubiläumsshow 
DESCRIPTION:Zu unserem 30. Geburtstag haben wir für euch und uns eine eigene spektakuläre und interaktive Jubiläumsshow entwickelt: Mit dem Melodiva-Glücksrad\, Lieblingsliedern aus den vergangenen 30 Jahren und brandneuen Songs! \n\n\n\nAus diesem besonderen Abend machen wir ein unvergessliches Event. Vor unserem Auftritt heizt unser Gästinnenchor aus Stuttgart euch ein: \n\n\n\n\nSeit 1998 ist Musica Lesbiana ein fester Bestandteil der queeren Musikszene – auch über die Grenzen Baden-Württembergs hinaus! \n\n\n\n\nEINLASS: 18:00 Uhr | BEGINN: 19:00 Uhr \n\n\n\nDer Vorverkauf hat gegonnen:  \n\n\n\n\n„Normal“: 28\,50 EUR (zzgl. Service-Gebühren)\n\n\n\n„Ermäßigt“: 25\,00 EUR (zzgl. Service-Gebühren)Wir verlangen keinen Nachweis\, appellieren aber an eure Ehrlichkeit\,dass es euch hilft etwas zu sparen\, weil ihr knapp bei Kasse seid. \n\n\n\n\nIhr habt am Freitag keine Zeit? Wie wäre es dann mit Tickets für Samstag\, den 15. November – den zweiten Abend bereichert unser Lieblingslesbenchor aus Karlsruhe: die WEIBrations. \n\n\n\n\nTICKETS kaufen
URL:https://melodiva.com/event/melodiva-dreht-am-rad-die-30-jahre-jubilaeumsshow/
LOCATION:Technikum\, Speicherstraße 26\, München\, 81671
CATEGORIES:Melodiva Auftritt
ATTACH;FMTTYPE=image/png:https://melodiva.com/wp-content/uploads/2024/11/Musica-Lesbiana.png
END:VEVENT
BEGIN:VEVENT
DTSTART;TZID=Europe/Berlin:20251115T190000
DTEND;TZID=Europe/Berlin:20251115T220000
DTSTAMP:20260419T214609
CREATED:20241118T193558Z
LAST-MODIFIED:20250503T190120Z
UID:4067-1763233200-1763244000@melodiva.com
SUMMARY:Melodiva dreht am Rad! Die 30-Jahre-Jubiläumsshow
DESCRIPTION:Zu unserem 30. Geburtstag haben wir für euch (und uns) eine eigene spektakuläre und interaktive Jubiläumsshow entwickelt: Mit dem Melodiva-Glücksrad\, unseren Lieblingsliedern aus den vergangenen 30 Jahren und brandneuen Songs. \n\n\n\nUnd um aus diesem besonderen Abend\, ein unvergessliches Event zu machen\, haben wir unseren Lieblingschor aus Karlsruhe eingeladen:  \n\n\n\n\nDie WEIBrations.Der badische Lesbenchor hat bereits letztes Jahr das 30-jährige Bestehen gefeiert. Auf die Frage\, was sie ausmacht und verbindet\, antworten sie freudig und einstimmig: „Die Lust am Singen!“ \n\n\n\n\nEINLASS: 18:00 Uhr | BEGINN: 19:00 Uhr \n\n\n\nDer Vorverkauf hat gegonnen: \n\n\n\n\n„Normal“: 28\,50 EUR (zzgl. Service-Gebühren)\n\n\n\n„Ermäßigt“: 25\,00 EUR (zzgl. Service-Gebühren)Wir verlangen keinen Nachweis von dir\, appellieren aber an deine Ehrlichkeit\,dass es dir hilft etwas zu sparen\, weil du knapp bei Kasse bist. \n\n\n\n\nIhr habt am Samstag keine Zeit? Wie wäre es dann mit Tickets für Freitag\, den 14. November – den Abend bereichert unser Gästinnenchor aus Stuttgart: Musica Lesbiana. \n\n\n\n\nTICKETS kaufen\n\n\n\n\nBei Fragen: 0171/ 4835 494 oder schreibt an melanie.ruesing@melodiva.com
URL:https://melodiva.com/event/melodiva-dreht-am-rad-die-30-jahre-jubilaeumsshow-party/
LOCATION:Technikum\, Speicherstraße 26\, München\, 81671
CATEGORIES:Melodiva Auftritt
ATTACH;FMTTYPE=image/png:https://melodiva.com/wp-content/uploads/2024/11/RadUweibrations.png
END:VEVENT
END:VCALENDAR