BEGIN:VCALENDAR
VERSION:2.0
PRODID:-//Melodiva Lesbenchor - ECPv6.15.20//NONSGML v1.0//EN
CALSCALE:GREGORIAN
METHOD:PUBLISH
X-ORIGINAL-URL:https://melodiva.com
X-WR-CALDESC:Veranstaltungen für Melodiva Lesbenchor
REFRESH-INTERVAL;VALUE=DURATION:PT1H
X-Robots-Tag:noindex
X-PUBLISHED-TTL:PT1H
BEGIN:VTIMEZONE
TZID:Europe/Berlin
BEGIN:DAYLIGHT
TZOFFSETFROM:+0100
TZOFFSETTO:+0200
TZNAME:CEST
DTSTART:20230326T010000
END:DAYLIGHT
BEGIN:STANDARD
TZOFFSETFROM:+0200
TZOFFSETTO:+0100
TZNAME:CET
DTSTART:20231029T010000
END:STANDARD
BEGIN:DAYLIGHT
TZOFFSETFROM:+0100
TZOFFSETTO:+0200
TZNAME:CEST
DTSTART:20240331T010000
END:DAYLIGHT
BEGIN:STANDARD
TZOFFSETFROM:+0200
TZOFFSETTO:+0100
TZNAME:CET
DTSTART:20241027T010000
END:STANDARD
BEGIN:DAYLIGHT
TZOFFSETFROM:+0100
TZOFFSETTO:+0200
TZNAME:CEST
DTSTART:20250330T010000
END:DAYLIGHT
BEGIN:STANDARD
TZOFFSETFROM:+0200
TZOFFSETTO:+0100
TZNAME:CET
DTSTART:20251026T010000
END:STANDARD
END:VTIMEZONE
BEGIN:VEVENT
DTSTART;TZID=Europe/Berlin:20241130T160000
DTEND;TZID=Europe/Berlin:20241130T180000
DTSTAMP:20260422T202144
CREATED:20240424T155438Z
LAST-MODIFIED:20260226T123911Z
UID:3956-1732982400-1732989600@melodiva.com
SUMMARY:Schöne Bescherung - Adventskonzert 2024
DESCRIPTION:Das war ein großer Erfolg!  \n\n\n\n \n\n\n\n\nUnter dem Motto „Bunter die Glocken nie klingen – besinnlich und queer in den Advent!“ haben wir mit über 110 Sänger*innen und Musiker*innen einen bunten und familiären Konzertnachmittag gefeiert. \n\n\n\n\n \n\n\n\nNeben Melodiva Lesbenchor waren mit dabei: Lilamunde\, die Frauen-Bigband Groove Sistaz\, die Philhomoniker – Schwuler Chor München\, der Regenbogenchor München und die Queerilla Singers. \n\n\n\nDer Eintritt war frei. Und wir freuen uns\, dass durch die rund 700 Zuhörer*innen über 5.200 Euro an Spenden an die ukrainische Geflüchtetenhilfe von MunichKyivQueer überreicht werden konnten. \n\n\n\nVielen Dank an alle Ensembles\, die Gäst*innen und Organisator*innen!Veranstalter ist Monaccord\, das Netzwerk der queeren Chöre und Ensembles in München.
URL:https://melodiva.com/event/schoene-bescherung-adventskonzert-2024/
LOCATION:St. Matthäus\, Nussbaumstraße 1\, München\, 80336\, Deutschland
CATEGORIES:Melodiva Auftritt
ATTACH;FMTTYPE=image/jpeg:https://melodiva.com/wp-content/uploads/2024/10/monaccord-adventskonzert2024-std_kl_event.jpg
END:VEVENT
END:VCALENDAR