BEGIN:VCALENDAR
VERSION:2.0
PRODID:-//Melodiva Lesbenchor - ECPv6.15.20//NONSGML v1.0//EN
CALSCALE:GREGORIAN
METHOD:PUBLISH
X-WR-CALNAME:Melodiva Lesbenchor
X-ORIGINAL-URL:https://melodiva.com
X-WR-CALDESC:Veranstaltungen für Melodiva Lesbenchor
REFRESH-INTERVAL;VALUE=DURATION:PT1H
X-Robots-Tag:noindex
X-PUBLISHED-TTL:PT1H
BEGIN:VTIMEZONE
TZID:Europe/Berlin
BEGIN:DAYLIGHT
TZOFFSETFROM:+0100
TZOFFSETTO:+0200
TZNAME:CEST
DTSTART:20220327T010000
END:DAYLIGHT
BEGIN:STANDARD
TZOFFSETFROM:+0200
TZOFFSETTO:+0100
TZNAME:CET
DTSTART:20221030T010000
END:STANDARD
BEGIN:DAYLIGHT
TZOFFSETFROM:+0100
TZOFFSETTO:+0200
TZNAME:CEST
DTSTART:20230326T010000
END:DAYLIGHT
BEGIN:STANDARD
TZOFFSETFROM:+0200
TZOFFSETTO:+0100
TZNAME:CET
DTSTART:20231029T010000
END:STANDARD
BEGIN:DAYLIGHT
TZOFFSETFROM:+0100
TZOFFSETTO:+0200
TZNAME:CEST
DTSTART:20240331T010000
END:DAYLIGHT
BEGIN:STANDARD
TZOFFSETFROM:+0200
TZOFFSETTO:+0100
TZNAME:CET
DTSTART:20241027T010000
END:STANDARD
END:VTIMEZONE
BEGIN:VEVENT
DTSTART;TZID=Europe/Berlin:20230311T190000
DTEND;TZID=Europe/Berlin:20230311T210000
DTSTAMP:20260424T102117
CREATED:20221205T161536Z
LAST-MODIFIED:20230208T121614Z
UID:3811-1678561200-1678568400@melodiva.com
SUMMARY:W.I.R. - Melodiva 7.0
DESCRIPTION:Wir freuen uns\, Euch noch einen weiteren Konzerttermin für unser großes Programm bekannt geben zu dürfen:  \n\n\n\nZurück in die digitale Zukunft. \n\n\n\nEndlich ist es wieder soweit! Und vermutlich gerade noch rechtzeitig:Google\, Facebook und Co. haben längst aufgegeben – W.I.R. hat die Welt nun fest im digitalen Würgegriff des Web 7.0.  \n\n\n\nKann Melodiva uns vor dem digitalen Supergau noch retten? So ganz analog?  \n\n\n\nErlebt uns mit den neuen Mitgliedern Siri und Alexa bei der musikalischen Datenverarbeitung aus Schlager\, Pop\, Rock und einer spannenden Geschichte mit algorythmischem Ohrenschmaus! \n\n\n\nEinlass 18:30 Uhr – Beginn 19:00 UhrTickets im VVK und ab 18 Uhr an der Abendkasse. Telefonische Reservierung für die Abendkasse unter 0163-6681316.  \n\n\n\n\n\n\nTickets kaufen
URL:https://melodiva.com/event/w-i-r-melodiva-7-0-3/
LOCATION:Trafo\, Neuhausen\, Nymphenburger Str. 171a\, München\, 80634\, Deutschland
CATEGORIES:Melodiva Auftritt
ATTACH;FMTTYPE=image/jpeg:https://melodiva.com/wp-content/uploads/2021/04/WIR-Programm.jpg
END:VEVENT
END:VCALENDAR