BEGIN:VCALENDAR
VERSION:2.0
PRODID:-//Melodiva Lesbenchor - ECPv6.15.20//NONSGML v1.0//EN
CALSCALE:GREGORIAN
METHOD:PUBLISH
X-WR-CALNAME:Melodiva Lesbenchor
X-ORIGINAL-URL:https://melodiva.com
X-WR-CALDESC:Veranstaltungen für Melodiva Lesbenchor
REFRESH-INTERVAL;VALUE=DURATION:PT1H
X-Robots-Tag:noindex
X-PUBLISHED-TTL:PT1H
BEGIN:VTIMEZONE
TZID:Europe/Berlin
BEGIN:DAYLIGHT
TZOFFSETFROM:+0100
TZOFFSETTO:+0200
TZNAME:CEST
DTSTART:20210328T010000
END:DAYLIGHT
BEGIN:STANDARD
TZOFFSETFROM:+0200
TZOFFSETTO:+0100
TZNAME:CET
DTSTART:20211031T010000
END:STANDARD
BEGIN:DAYLIGHT
TZOFFSETFROM:+0100
TZOFFSETTO:+0200
TZNAME:CEST
DTSTART:20220327T010000
END:DAYLIGHT
BEGIN:STANDARD
TZOFFSETFROM:+0200
TZOFFSETTO:+0100
TZNAME:CET
DTSTART:20221030T010000
END:STANDARD
BEGIN:DAYLIGHT
TZOFFSETFROM:+0100
TZOFFSETTO:+0200
TZNAME:CEST
DTSTART:20230326T010000
END:DAYLIGHT
BEGIN:STANDARD
TZOFFSETFROM:+0200
TZOFFSETTO:+0100
TZNAME:CET
DTSTART:20231029T010000
END:STANDARD
END:VTIMEZONE
BEGIN:VEVENT
DTSTART;TZID=Europe/Berlin:20221021T190000
DTEND;TZID=Europe/Berlin:20221021T213000
DTSTAMP:20260424T194133
CREATED:20221011T143609Z
LAST-MODIFIED:20221011T143610Z
UID:3770-1666378800-1666387800@melodiva.com
SUMMARY:Melodiva singt im LeZ
DESCRIPTION:Das LeZ feiert am 21.10.2022 Geburtstag und Melodiva singt ein Ständchen! Kommt rum auf ein Getränk und einen Plausch. Wir freuen uns!
URL:https://melodiva.com/event/melodiva-singt-im-lez/
LOCATION:LeZ – lesbisch-queeres Zentrum\, Müllerstraße 26\, München\, Bayern\, 80469\, Deutschland
CATEGORIES:Melodiva and Friends,Melodiva Auftritt
ATTACH;FMTTYPE=image/jpeg:https://melodiva.com/wp-content/uploads/2022/10/melodiva-shirt-rose-auftritt-LeZ.jpg
END:VEVENT
END:VCALENDAR